BEGIN:VCALENDAR
VERSION:2.0
PRODID:-//Magna Academy - ECPv6.15.14//NONSGML v1.0//EN
CALSCALE:GREGORIAN
METHOD:PUBLISH
X-WR-CALNAME:Magna Academy
X-ORIGINAL-URL:https://www.magna-aspirations.org
X-WR-CALDESC:Events for Magna Academy
REFRESH-INTERVAL;VALUE=DURATION:PT1H
X-Robots-Tag:noindex
X-PUBLISHED-TTL:PT1H
BEGIN:VTIMEZONE
TZID:Europe/London
BEGIN:DAYLIGHT
TZOFFSETFROM:+0000
TZOFFSETTO:+0100
TZNAME:BST
DTSTART:20200329T010000
END:DAYLIGHT
BEGIN:STANDARD
TZOFFSETFROM:+0100
TZOFFSETTO:+0000
TZNAME:GMT
DTSTART:20201025T010000
END:STANDARD
BEGIN:DAYLIGHT
TZOFFSETFROM:+0000
TZOFFSETTO:+0100
TZNAME:BST
DTSTART:20210328T010000
END:DAYLIGHT
BEGIN:STANDARD
TZOFFSETFROM:+0100
TZOFFSETTO:+0000
TZNAME:GMT
DTSTART:20211031T010000
END:STANDARD
BEGIN:DAYLIGHT
TZOFFSETFROM:+0000
TZOFFSETTO:+0100
TZNAME:BST
DTSTART:20220327T010000
END:DAYLIGHT
BEGIN:STANDARD
TZOFFSETFROM:+0100
TZOFFSETTO:+0000
TZNAME:GMT
DTSTART:20221030T010000
END:STANDARD
END:VTIMEZONE
BEGIN:VEVENT
DTSTART;TZID=Europe/London:20211021T180000
DTEND;TZID=Europe/London:20211021T200000
DTSTAMP:20260420T233405
CREATED:20210916T084927Z
LAST-MODIFIED:20210917T123255Z
UID:5836-1634839200-1634846400@www.magna-aspirations.org
SUMMARY:Sixth Form Open Evening
DESCRIPTION:
URL:https://www.magna-aspirations.org/event/sixth-form-open-evening/
LOCATION:Magna Academy Poole\, Ashdown Close\, Poole\, Dorset\, BH17 8RE\, United Kingdom
CATEGORIES:Events for Parents,Open Evening,Sixth Form
END:VEVENT
END:VCALENDAR