BEGIN:VCALENDAR
VERSION:2.0
PRODID:-//Magna Academy - ECPv6.15.14//NONSGML v1.0//EN
CALSCALE:GREGORIAN
METHOD:PUBLISH
X-WR-CALNAME:Magna Academy
X-ORIGINAL-URL:https://www.magna-aspirations.org
X-WR-CALDESC:Events for Magna Academy
REFRESH-INTERVAL;VALUE=DURATION:PT1H
X-Robots-Tag:noindex
X-PUBLISHED-TTL:PT1H
BEGIN:VTIMEZONE
TZID:Europe/London
BEGIN:DAYLIGHT
TZOFFSETFROM:+0000
TZOFFSETTO:+0100
TZNAME:BST
DTSTART:20200329T010000
END:DAYLIGHT
BEGIN:STANDARD
TZOFFSETFROM:+0100
TZOFFSETTO:+0000
TZNAME:GMT
DTSTART:20201025T010000
END:STANDARD
BEGIN:DAYLIGHT
TZOFFSETFROM:+0000
TZOFFSETTO:+0100
TZNAME:BST
DTSTART:20210328T010000
END:DAYLIGHT
BEGIN:STANDARD
TZOFFSETFROM:+0100
TZOFFSETTO:+0000
TZNAME:GMT
DTSTART:20211031T010000
END:STANDARD
BEGIN:DAYLIGHT
TZOFFSETFROM:+0000
TZOFFSETTO:+0100
TZNAME:BST
DTSTART:20220327T010000
END:DAYLIGHT
BEGIN:STANDARD
TZOFFSETFROM:+0100
TZOFFSETTO:+0000
TZNAME:GMT
DTSTART:20221030T010000
END:STANDARD
END:VTIMEZONE
BEGIN:VEVENT
DTSTART;TZID=Europe/London:20211104T160000
DTEND;TZID=Europe/London:20211104T190000
DTSTAMP:20260420T214039
CREATED:20210917T122149Z
LAST-MODIFIED:20210917T122149Z
UID:5915-1636041600-1636052400@www.magna-aspirations.org
SUMMARY:Year 7 Parents Evening - Virtual
DESCRIPTION:
URL:https://www.magna-aspirations.org/event/year-7-parents-evening-virtual/
LOCATION:Virtual
CATEGORIES:Events for Parents
END:VEVENT
BEGIN:VEVENT
DTSTART;TZID=Europe/London:20211111T170000
DTEND;TZID=Europe/London:20211111T190000
DTSTAMP:20260420T214039
CREATED:20210917T121843Z
LAST-MODIFIED:20211005T073234Z
UID:5844-1636650000-1636657200@www.magna-aspirations.org
SUMMARY:Year 12 Progress Evening - Virtual
DESCRIPTION:
URL:https://www.magna-aspirations.org/event/year-12-progress-evening/
LOCATION:Virtual
CATEGORIES:Events for Parents
END:VEVENT
END:VCALENDAR