BEGIN:VCALENDAR
VERSION:2.0
PRODID:-//Magna Academy - ECPv6.15.14//NONSGML v1.0//EN
CALSCALE:GREGORIAN
METHOD:PUBLISH
X-WR-CALNAME:Magna Academy
X-ORIGINAL-URL:https://www.magna-aspirations.org
X-WR-CALDESC:Events for Magna Academy
REFRESH-INTERVAL;VALUE=DURATION:PT1H
X-Robots-Tag:noindex
X-PUBLISHED-TTL:PT1H
BEGIN:VTIMEZONE
TZID:Europe/London
BEGIN:DAYLIGHT
TZOFFSETFROM:+0000
TZOFFSETTO:+0100
TZNAME:BST
DTSTART:20210328T010000
END:DAYLIGHT
BEGIN:STANDARD
TZOFFSETFROM:+0100
TZOFFSETTO:+0000
TZNAME:GMT
DTSTART:20211031T010000
END:STANDARD
BEGIN:DAYLIGHT
TZOFFSETFROM:+0000
TZOFFSETTO:+0100
TZNAME:BST
DTSTART:20220327T010000
END:DAYLIGHT
BEGIN:STANDARD
TZOFFSETFROM:+0100
TZOFFSETTO:+0000
TZNAME:GMT
DTSTART:20221030T010000
END:STANDARD
BEGIN:DAYLIGHT
TZOFFSETFROM:+0000
TZOFFSETTO:+0100
TZNAME:BST
DTSTART:20230326T010000
END:DAYLIGHT
BEGIN:STANDARD
TZOFFSETFROM:+0100
TZOFFSETTO:+0000
TZNAME:GMT
DTSTART:20231029T010000
END:STANDARD
END:VTIMEZONE
BEGIN:VEVENT
DTSTART;TZID=Europe/London:20220203T160000
DTEND;TZID=Europe/London:20220203T190000
DTSTAMP:20260420T160421
CREATED:20210917T122841Z
LAST-MODIFIED:20210917T122841Z
UID:5923-1643904000-1643914800@www.magna-aspirations.org
SUMMARY:Year 12 Parents Evening - Virtual
DESCRIPTION:
URL:https://www.magna-aspirations.org/event/year-12-parents-evening-virtual/
LOCATION:Virtual
CATEGORIES:Events for Parents
END:VEVENT
BEGIN:VEVENT
DTSTART;TZID=Europe/London:20220217T160000
DTEND;TZID=Europe/London:20220217T190000
DTSTAMP:20260420T160421
CREATED:20210917T122940Z
LAST-MODIFIED:20210917T122940Z
UID:5925-1645113600-1645124400@www.magna-aspirations.org
SUMMARY:Year 10 Parents Evening - Virtual
DESCRIPTION:
URL:https://www.magna-aspirations.org/event/year-10-parents-evening-virtual/
LOCATION:Virtual
CATEGORIES:Events for Parents
END:VEVENT
END:VCALENDAR