BEGIN:VCALENDAR
VERSION:2.0
PRODID:-//Magna Academy - ECPv6.15.14//NONSGML v1.0//EN
CALSCALE:GREGORIAN
METHOD:PUBLISH
X-ORIGINAL-URL:https://www.magna-aspirations.org
X-WR-CALDESC:Events for Magna Academy
REFRESH-INTERVAL;VALUE=DURATION:PT1H
X-Robots-Tag:noindex
X-PUBLISHED-TTL:PT1H
BEGIN:VTIMEZONE
TZID:Europe/London
BEGIN:DAYLIGHT
TZOFFSETFROM:+0000
TZOFFSETTO:+0100
TZNAME:BST
DTSTART:20240331T010000
END:DAYLIGHT
BEGIN:STANDARD
TZOFFSETFROM:+0100
TZOFFSETTO:+0000
TZNAME:GMT
DTSTART:20241027T010000
END:STANDARD
BEGIN:DAYLIGHT
TZOFFSETFROM:+0000
TZOFFSETTO:+0100
TZNAME:BST
DTSTART:20250330T010000
END:DAYLIGHT
BEGIN:STANDARD
TZOFFSETFROM:+0100
TZOFFSETTO:+0000
TZNAME:GMT
DTSTART:20251026T010000
END:STANDARD
BEGIN:DAYLIGHT
TZOFFSETFROM:+0000
TZOFFSETTO:+0100
TZNAME:BST
DTSTART:20260329T010000
END:DAYLIGHT
BEGIN:STANDARD
TZOFFSETFROM:+0100
TZOFFSETTO:+0000
TZNAME:GMT
DTSTART:20261025T010000
END:STANDARD
END:VTIMEZONE
BEGIN:VEVENT
DTSTART;VALUE=DATE:20250107
DTEND;VALUE=DATE:20250111
DTSTAMP:20260424T120132
CREATED:20240924T151155Z
LAST-MODIFIED:20240924T151155Z
UID:10540-1736208000-1736553599@www.magna-aspirations.org
SUMMARY:Week B
DESCRIPTION:
URL:https://www.magna-aspirations.org/event/week-b-9/
CATEGORIES:School Weeks Cycle
END:VEVENT
BEGIN:VEVENT
DTSTART;VALUE=DATE:20250113
DTEND;VALUE=DATE:20250117
DTSTAMP:20260424T120132
CREATED:20250106T120501Z
LAST-MODIFIED:20250106T120501Z
UID:10858-1736726400-1737071999@www.magna-aspirations.org
SUMMARY:Week A
DESCRIPTION:
URL:https://www.magna-aspirations.org/event/week-a-8/
CATEGORIES:School Weeks Cycle
END:VEVENT
BEGIN:VEVENT
DTSTART;VALUE=DATE:20250120
DTEND;VALUE=DATE:20250125
DTSTAMP:20260424T120132
CREATED:20250106T120548Z
LAST-MODIFIED:20250106T120548Z
UID:10860-1737331200-1737763199@www.magna-aspirations.org
SUMMARY:Week B
DESCRIPTION:
URL:https://www.magna-aspirations.org/event/week-b-10/
CATEGORIES:School Weeks Cycle
END:VEVENT
BEGIN:VEVENT
DTSTART;VALUE=DATE:20250127
DTEND;VALUE=DATE:20250128
DTSTAMP:20260424T120132
CREATED:20240924T145309Z
LAST-MODIFIED:20240924T145309Z
UID:10519-1737936000-1738022399@www.magna-aspirations.org
SUMMARY:Start of Unit 4
DESCRIPTION:
URL:https://www.magna-aspirations.org/event/start-of-unit-4-4/
CATEGORIES:School Weeks Cycle
END:VEVENT
BEGIN:VEVENT
DTSTART;VALUE=DATE:20250127
DTEND;VALUE=DATE:20250201
DTSTAMP:20260424T120132
CREATED:20250106T120629Z
LAST-MODIFIED:20250106T120629Z
UID:10862-1737936000-1738367999@www.magna-aspirations.org
SUMMARY:Week A
DESCRIPTION:
URL:https://www.magna-aspirations.org/event/week-a-9/
CATEGORIES:School Weeks Cycle
END:VEVENT
END:VCALENDAR