BEGIN:VCALENDAR
VERSION:2.0
PRODID:-//Magna Academy - ECPv6.15.14//NONSGML v1.0//EN
CALSCALE:GREGORIAN
METHOD:PUBLISH
X-ORIGINAL-URL:https://www.magna-aspirations.org
X-WR-CALDESC:Events for Magna Academy
REFRESH-INTERVAL;VALUE=DURATION:PT1H
X-Robots-Tag:noindex
X-PUBLISHED-TTL:PT1H
BEGIN:VTIMEZONE
TZID:Europe/London
BEGIN:DAYLIGHT
TZOFFSETFROM:+0000
TZOFFSETTO:+0100
TZNAME:BST
DTSTART:20250330T010000
END:DAYLIGHT
BEGIN:STANDARD
TZOFFSETFROM:+0100
TZOFFSETTO:+0000
TZNAME:GMT
DTSTART:20251026T010000
END:STANDARD
BEGIN:DAYLIGHT
TZOFFSETFROM:+0000
TZOFFSETTO:+0100
TZNAME:BST
DTSTART:20260329T010000
END:DAYLIGHT
BEGIN:STANDARD
TZOFFSETFROM:+0100
TZOFFSETTO:+0000
TZNAME:GMT
DTSTART:20261025T010000
END:STANDARD
BEGIN:DAYLIGHT
TZOFFSETFROM:+0000
TZOFFSETTO:+0100
TZNAME:BST
DTSTART:20270328T010000
END:DAYLIGHT
BEGIN:STANDARD
TZOFFSETFROM:+0100
TZOFFSETTO:+0000
TZNAME:GMT
DTSTART:20271031T010000
END:STANDARD
END:VTIMEZONE
BEGIN:VEVENT
DTSTART;VALUE=DATE:20260106
DTEND;VALUE=DATE:20260110
DTSTAMP:20260421T154123
CREATED:20251107T151122Z
LAST-MODIFIED:20251107T151122Z
UID:11754-1767657600-1768003199@www.magna-aspirations.org
SUMMARY:Week B
DESCRIPTION:
URL:https://www.magna-aspirations.org/event/week-b-28/
CATEGORIES:School Weeks Cycle
END:VEVENT
BEGIN:VEVENT
DTSTART;VALUE=DATE:20260112
DTEND;VALUE=DATE:20260117
DTSTAMP:20260421T154123
CREATED:20251107T151208Z
LAST-MODIFIED:20251107T151208Z
UID:11756-1768176000-1768607999@www.magna-aspirations.org
SUMMARY:Week A
DESCRIPTION:
URL:https://www.magna-aspirations.org/event/week-a-28/
CATEGORIES:School Weeks Cycle
END:VEVENT
BEGIN:VEVENT
DTSTART;VALUE=DATE:20260119
DTEND;VALUE=DATE:20260124
DTSTAMP:20260421T154123
CREATED:20251107T151243Z
LAST-MODIFIED:20251107T151243Z
UID:11758-1768780800-1769212799@www.magna-aspirations.org
SUMMARY:Week B
DESCRIPTION:
URL:https://www.magna-aspirations.org/event/week-b-29/
CATEGORIES:School Weeks Cycle
END:VEVENT
BEGIN:VEVENT
DTSTART;VALUE=DATE:20260126
DTEND;VALUE=DATE:20260127
DTSTAMP:20260421T154123
CREATED:20250912T103550Z
LAST-MODIFIED:20250912T103550Z
UID:11545-1769385600-1769471999@www.magna-aspirations.org
SUMMARY:Start of Unit 4
DESCRIPTION:
URL:https://www.magna-aspirations.org/event/start-of-unit-4-5/
CATEGORIES:School Weeks Cycle
END:VEVENT
BEGIN:VEVENT
DTSTART;VALUE=DATE:20260126
DTEND;VALUE=DATE:20260131
DTSTAMP:20260421T154123
CREATED:20251107T151316Z
LAST-MODIFIED:20251107T151316Z
UID:11760-1769385600-1769817599@www.magna-aspirations.org
SUMMARY:Week A
DESCRIPTION:
URL:https://www.magna-aspirations.org/event/week-a-29/
CATEGORIES:School Weeks Cycle
END:VEVENT
END:VCALENDAR