BEGIN:VCALENDAR
VERSION:2.0
PRODID:-//Magna Academy - ECPv6.15.14//NONSGML v1.0//EN
CALSCALE:GREGORIAN
METHOD:PUBLISH
X-ORIGINAL-URL:https://www.magna-aspirations.org
X-WR-CALDESC:Events for Magna Academy
REFRESH-INTERVAL;VALUE=DURATION:PT1H
X-Robots-Tag:noindex
X-PUBLISHED-TTL:PT1H
BEGIN:VTIMEZONE
TZID:Europe/London
BEGIN:DAYLIGHT
TZOFFSETFROM:+0000
TZOFFSETTO:+0100
TZNAME:BST
DTSTART:20250330T010000
END:DAYLIGHT
BEGIN:STANDARD
TZOFFSETFROM:+0100
TZOFFSETTO:+0000
TZNAME:GMT
DTSTART:20251026T010000
END:STANDARD
BEGIN:DAYLIGHT
TZOFFSETFROM:+0000
TZOFFSETTO:+0100
TZNAME:BST
DTSTART:20260329T010000
END:DAYLIGHT
BEGIN:STANDARD
TZOFFSETFROM:+0100
TZOFFSETTO:+0000
TZNAME:GMT
DTSTART:20261025T010000
END:STANDARD
BEGIN:DAYLIGHT
TZOFFSETFROM:+0000
TZOFFSETTO:+0100
TZNAME:BST
DTSTART:20270328T010000
END:DAYLIGHT
BEGIN:STANDARD
TZOFFSETFROM:+0100
TZOFFSETTO:+0000
TZNAME:GMT
DTSTART:20271031T010000
END:STANDARD
END:VTIMEZONE
BEGIN:VEVENT
DTSTART;VALUE=DATE:20260202
DTEND;VALUE=DATE:20260207
DTSTAMP:20260421T135813
CREATED:20251107T151403Z
LAST-MODIFIED:20251107T151403Z
UID:11762-1769990400-1770422399@www.magna-aspirations.org
SUMMARY:Week B
DESCRIPTION:
URL:https://www.magna-aspirations.org/event/week-b-30/
CATEGORIES:School Weeks Cycle
END:VEVENT
BEGIN:VEVENT
DTSTART;VALUE=DATE:20260209
DTEND;VALUE=DATE:20260214
DTSTAMP:20260421T135813
CREATED:20251107T151445Z
LAST-MODIFIED:20251107T151445Z
UID:11764-1770595200-1771027199@www.magna-aspirations.org
SUMMARY:Week A
DESCRIPTION:
URL:https://www.magna-aspirations.org/event/week-a-30/
CATEGORIES:School Weeks Cycle
END:VEVENT
BEGIN:VEVENT
DTSTART;VALUE=DATE:20260223
DTEND;VALUE=DATE:20260228
DTSTAMP:20260421T135813
CREATED:20251107T151524Z
LAST-MODIFIED:20251107T151524Z
UID:11766-1771804800-1772236799@www.magna-aspirations.org
SUMMARY:Week B
DESCRIPTION:
URL:https://www.magna-aspirations.org/event/week-b-31/
CATEGORIES:School Weeks Cycle
END:VEVENT
END:VCALENDAR