BEGIN:VCALENDAR
VERSION:2.0
PRODID:-//Magna Academy - ECPv6.15.14//NONSGML v1.0//EN
CALSCALE:GREGORIAN
METHOD:PUBLISH
X-WR-CALNAME:Magna Academy
X-ORIGINAL-URL:https://www.magna-aspirations.org
X-WR-CALDESC:Events for Magna Academy
REFRESH-INTERVAL;VALUE=DURATION:PT1H
X-Robots-Tag:noindex
X-PUBLISHED-TTL:PT1H
BEGIN:VTIMEZONE
TZID:Europe/London
BEGIN:DAYLIGHT
TZOFFSETFROM:+0000
TZOFFSETTO:+0100
TZNAME:BST
DTSTART:20250330T010000
END:DAYLIGHT
BEGIN:STANDARD
TZOFFSETFROM:+0100
TZOFFSETTO:+0000
TZNAME:GMT
DTSTART:20251026T010000
END:STANDARD
BEGIN:DAYLIGHT
TZOFFSETFROM:+0000
TZOFFSETTO:+0100
TZNAME:BST
DTSTART:20260329T010000
END:DAYLIGHT
BEGIN:STANDARD
TZOFFSETFROM:+0100
TZOFFSETTO:+0000
TZNAME:GMT
DTSTART:20261025T010000
END:STANDARD
BEGIN:DAYLIGHT
TZOFFSETFROM:+0000
TZOFFSETTO:+0100
TZNAME:BST
DTSTART:20270328T010000
END:DAYLIGHT
BEGIN:STANDARD
TZOFFSETFROM:+0100
TZOFFSETTO:+0000
TZNAME:GMT
DTSTART:20271031T010000
END:STANDARD
END:VTIMEZONE
BEGIN:VEVENT
DTSTART;VALUE=DATE:20260302
DTEND;VALUE=DATE:20260307
DTSTAMP:20260421T122017
CREATED:20251107T151558Z
LAST-MODIFIED:20251107T151638Z
UID:11768-1772409600-1772841599@www.magna-aspirations.org
SUMMARY:Week A
DESCRIPTION:
URL:https://www.magna-aspirations.org/event/week-a-31/
CATEGORIES:School Weeks Cycle
END:VEVENT
BEGIN:VEVENT
DTSTART;VALUE=DATE:20260309
DTEND;VALUE=DATE:20260314
DTSTAMP:20260421T122017
CREATED:20251107T151715Z
LAST-MODIFIED:20251107T151715Z
UID:11770-1773014400-1773446399@www.magna-aspirations.org
SUMMARY:Week B
DESCRIPTION:
URL:https://www.magna-aspirations.org/event/week-b-32/
CATEGORIES:School Weeks Cycle
END:VEVENT
BEGIN:VEVENT
DTSTART;VALUE=DATE:20260316
DTEND;VALUE=DATE:20260317
DTSTAMP:20260421T122017
CREATED:20250912T103624Z
LAST-MODIFIED:20250912T103624Z
UID:11547-1773619200-1773705599@www.magna-aspirations.org
SUMMARY:Start of Unit 5
DESCRIPTION:
URL:https://www.magna-aspirations.org/event/start-of-unit-5-5/
CATEGORIES:School Weeks Cycle
END:VEVENT
BEGIN:VEVENT
DTSTART;VALUE=DATE:20260316
DTEND;VALUE=DATE:20260321
DTSTAMP:20260421T122017
CREATED:20260318T094101Z
LAST-MODIFIED:20260318T094101Z
UID:12036-1773619200-1774051199@www.magna-aspirations.org
SUMMARY:Week A
DESCRIPTION:
URL:https://www.magna-aspirations.org/event/week-a-32/
CATEGORIES:School Weeks Cycle
END:VEVENT
BEGIN:VEVENT
DTSTART;VALUE=DATE:20260323
DTEND;VALUE=DATE:20260328
DTSTAMP:20260421T122017
CREATED:20260318T094134Z
LAST-MODIFIED:20260318T094134Z
UID:12038-1774224000-1774655999@www.magna-aspirations.org
SUMMARY:Week B
DESCRIPTION:
URL:https://www.magna-aspirations.org/event/week-b-33/
CATEGORIES:School Weeks Cycle
END:VEVENT
END:VCALENDAR