BEGIN:VCALENDAR
VERSION:2.0
PRODID:-//Magna Academy - ECPv6.15.14//NONSGML v1.0//EN
CALSCALE:GREGORIAN
METHOD:PUBLISH
X-WR-CALNAME:Magna Academy
X-ORIGINAL-URL:https://www.magna-aspirations.org
X-WR-CALDESC:Events for Magna Academy
REFRESH-INTERVAL;VALUE=DURATION:PT1H
X-Robots-Tag:noindex
X-PUBLISHED-TTL:PT1H
BEGIN:VTIMEZONE
TZID:Europe/London
BEGIN:DAYLIGHT
TZOFFSETFROM:+0000
TZOFFSETTO:+0100
TZNAME:BST
DTSTART:20250330T010000
END:DAYLIGHT
BEGIN:STANDARD
TZOFFSETFROM:+0100
TZOFFSETTO:+0000
TZNAME:GMT
DTSTART:20251026T010000
END:STANDARD
BEGIN:DAYLIGHT
TZOFFSETFROM:+0000
TZOFFSETTO:+0100
TZNAME:BST
DTSTART:20260329T010000
END:DAYLIGHT
BEGIN:STANDARD
TZOFFSETFROM:+0100
TZOFFSETTO:+0000
TZNAME:GMT
DTSTART:20261025T010000
END:STANDARD
BEGIN:DAYLIGHT
TZOFFSETFROM:+0000
TZOFFSETTO:+0100
TZNAME:BST
DTSTART:20270328T010000
END:DAYLIGHT
BEGIN:STANDARD
TZOFFSETFROM:+0100
TZOFFSETTO:+0000
TZNAME:GMT
DTSTART:20271031T010000
END:STANDARD
END:VTIMEZONE
BEGIN:VEVENT
DTSTART;VALUE=DATE:20260427
DTEND;VALUE=DATE:20260502
DTSTAMP:20260421T122018
CREATED:20260318T094404Z
LAST-MODIFIED:20260318T094404Z
UID:12044-1777248000-1777679999@www.magna-aspirations.org
SUMMARY:Week A
DESCRIPTION:
URL:https://www.magna-aspirations.org/event/week-a-34/
CATEGORIES:School Weeks Cycle
END:VEVENT
BEGIN:VEVENT
DTSTART;VALUE=DATE:20260505
DTEND;VALUE=DATE:20260509
DTSTAMP:20260421T122018
CREATED:20260318T094609Z
LAST-MODIFIED:20260318T094609Z
UID:12048-1777939200-1778284799@www.magna-aspirations.org
SUMMARY:Week B
DESCRIPTION:
URL:https://www.magna-aspirations.org/event/week-b-35/
CATEGORIES:School Weeks Cycle
END:VEVENT
BEGIN:VEVENT
DTSTART;VALUE=DATE:20260511
DTEND;VALUE=DATE:20260516
DTSTAMP:20260421T122018
CREATED:20260318T094641Z
LAST-MODIFIED:20260318T094641Z
UID:12050-1778457600-1778889599@www.magna-aspirations.org
SUMMARY:Week A
DESCRIPTION:
URL:https://www.magna-aspirations.org/event/week-a-35/
CATEGORIES:School Weeks Cycle
END:VEVENT
BEGIN:VEVENT
DTSTART;TZID=Europe/London:20260511T080000
DTEND;TZID=Europe/London:20260511T170000
DTSTAMP:20260421T122018
CREATED:20250912T103652Z
LAST-MODIFIED:20250912T103652Z
UID:11549-1778486400-1778518800@www.magna-aspirations.org
SUMMARY:Start of Unit 6
DESCRIPTION:
URL:https://www.magna-aspirations.org/event/start-of-unit-6-5/
CATEGORIES:School Weeks Cycle
END:VEVENT
BEGIN:VEVENT
DTSTART;VALUE=DATE:20260518
DTEND;VALUE=DATE:20260523
DTSTAMP:20260421T122018
CREATED:20260318T094712Z
LAST-MODIFIED:20260318T094712Z
UID:12052-1779062400-1779494399@www.magna-aspirations.org
SUMMARY:Week B
DESCRIPTION:
URL:https://www.magna-aspirations.org/event/week-b-36/
CATEGORIES:School Weeks Cycle
END:VEVENT
END:VCALENDAR